BEGIN:VCALENDAR
VERSION:2.0
PRODID:-//31Heroes - ECPv6.15.20//NONSGML v1.0//EN
CALSCALE:GREGORIAN
METHOD:PUBLISH
X-WR-CALNAME:31Heroes
X-ORIGINAL-URL:https://www.31heroes.org
X-WR-CALDESC:Events for 31Heroes
REFRESH-INTERVAL;VALUE=DURATION:PT1H
X-Robots-Tag:noindex
X-PUBLISHED-TTL:PT1H
BEGIN:VTIMEZONE
TZID:America/Halifax
BEGIN:DAYLIGHT
TZOFFSETFROM:-0400
TZOFFSETTO:-0300
TZNAME:ADT
DTSTART:20240310T060000
END:DAYLIGHT
BEGIN:STANDARD
TZOFFSETFROM:-0300
TZOFFSETTO:-0400
TZNAME:AST
DTSTART:20241103T050000
END:STANDARD
BEGIN:DAYLIGHT
TZOFFSETFROM:-0400
TZOFFSETTO:-0300
TZNAME:ADT
DTSTART:20250309T060000
END:DAYLIGHT
BEGIN:STANDARD
TZOFFSETFROM:-0300
TZOFFSETTO:-0400
TZNAME:AST
DTSTART:20251102T050000
END:STANDARD
BEGIN:DAYLIGHT
TZOFFSETFROM:-0400
TZOFFSETTO:-0300
TZNAME:ADT
DTSTART:20260308T060000
END:DAYLIGHT
BEGIN:STANDARD
TZOFFSETFROM:-0300
TZOFFSETTO:-0400
TZNAME:AST
DTSTART:20261101T050000
END:STANDARD
END:VTIMEZONE
BEGIN:VEVENT
DTSTART;TZID=America/Halifax:20250801T000000
DTEND;TZID=America/Halifax:20250831T170000
DTSTAMP:20260419T085926
CREATED:20250103T161525Z
LAST-MODIFIED:20250317T181149Z
UID:2704-1754006400-1756659600@www.31heroes.org
SUMMARY:31 Days for 31Heroes
DESCRIPTION:Register TODAY! \nThis is an option for those who may not have the time\, ability\, or desire to take on all 31 miles in one go. Everyday for 31 Days you head out and ruck for one of our Heroes.
URL:https://www.31heroes.org/event/31-days-for-31heroes/
ATTACH;FMTTYPE=image/jpeg:https://www.31heroes.org/wp-content/uploads/2022/09/ruck-31days-2-2022.jpg
END:VEVENT
END:VCALENDAR